BEGIN:VCALENDAR
VERSION:2.0
PRODID:-//MADE VISIBLE® by TCS - ECPv6.0.1.1//NONSGML v1.0//EN
CALSCALE:GREGORIAN
METHOD:PUBLISH
X-WR-CALNAME:MADE VISIBLE® by TCS
X-ORIGINAL-URL:https://madevisible.farner4.ch
X-WR-CALDESC:évènements pour MADE VISIBLE® by TCS
REFRESH-INTERVAL;VALUE=DURATION:PT1H
X-Robots-Tag:noindex
X-PUBLISHED-TTL:PT1H
BEGIN:VTIMEZONE
TZID:Europe/Zurich
BEGIN:DAYLIGHT
TZOFFSETFROM:+0100
TZOFFSETTO:+0200
TZNAME:CEST
DTSTART:20200329T010000
END:DAYLIGHT
BEGIN:STANDARD
TZOFFSETFROM:+0200
TZOFFSETTO:+0100
TZNAME:CET
DTSTART:20201025T010000
END:STANDARD
END:VTIMEZONE
BEGIN:VEVENT
DTSTART;TZID=Europe/Zurich:20201119T170000
DTEND;TZID=Europe/Zurich:20201119T190000
DTSTAMP:20260420T012603
CREATED:20201028T120954Z
LAST-MODIFIED:20201028T121015Z
UID:22965-1605805200-1605812400@madevisible.farner4.ch
SUMMARY:TCS Uri et Police cantonale d'Uri - Contrôle des feux pour les automobilistes et les cyclistes
DESCRIPTION:
URL:https://madevisible.farner4.ch/fr/event/tcs-polizei-lichtkontrolle/
LOCATION:Feuerwehrlokal\, Flüelerstrasse 32\, 6460 Altdorf\, Flüelerstrasse 32\, Altdorf\, Uri\, 6460\, Schweiz
ORGANIZER;CN="TCS%20Uri":MAILTO:toni.baumann@ur.ch
GEO:46.887014;8.6339337
X-APPLE-STRUCTURED-LOCATION;VALUE=URI;X-ADDRESS=Feuerwehrlokal Flüelerstrasse 32 6460 Altdorf Flüelerstrasse 32 Altdorf Uri 6460 Schweiz;X-APPLE-RADIUS=500;X-TITLE=Flüelerstrasse 32:geo:8.6339337,46.887014
END:VEVENT
BEGIN:VEVENT
DTSTART;TZID=Europe/Zurich:20201106T170000
DTEND;TZID=Europe/Zurich:20201106T210000
DTSTAMP:20260420T012603
CREATED:20201030T123630Z
LAST-MODIFIED:20201030T123646Z
UID:23067-1604682000-1604696400@madevisible.farner4.ch
SUMMARY:Police de la circulation de Nidwald et TCS - Contrôle des feux
DESCRIPTION:
URL:https://madevisible.farner4.ch/fr/event/verkehrspolizei-nidwalden-und-tcs-lichtkontrolle/
LOCATION:Stans\, Kreuzstrasse\, Kreuzstrasse\, Stans\, 6362\, Schweiz
ORGANIZER;CN="Police%20de%20la%20circulation%20de%20Nidwald":MAILTO:verkehrspolizei@nidwalden.ch
GEO:46.9661189;8.3866579
X-APPLE-STRUCTURED-LOCATION;VALUE=URI;X-ADDRESS=Stans Kreuzstrasse Kreuzstrasse Stans 6362 Schweiz;X-APPLE-RADIUS=500;X-TITLE=Kreuzstrasse:geo:8.3866579,46.9661189
END:VEVENT
BEGIN:VEVENT
DTSTART;TZID=Europe/Zurich:20201105T180000
DTEND;TZID=Europe/Zurich:20201105T190000
DTSTAMP:20260420T012603
CREATED:20201028T121537Z
LAST-MODIFIED:20201028T121537Z
UID:22976-1604599200-1604602800@madevisible.farner4.ch
SUMMARY:Police cantonale des Grisons et TCS - Action de prévention et contrôle des feux
DESCRIPTION:
URL:https://madevisible.farner4.ch/fr/event/praeventionsanlass-lichtkontrolle/
LOCATION:Grüsch – Valzeina\, PP Tiefbauamt\, Grüsch\, Graubünden\, 7214\, Schweiz
END:VEVENT
BEGIN:VEVENT
DTSTART;TZID=Europe/Zurich:20201105T173000
DTEND;TZID=Europe/Zurich:20201105T203000
DTSTAMP:20260420T012603
CREATED:20200909T134720Z
LAST-MODIFIED:20200917T151624Z
UID:22388-1604597400-1604608200@madevisible.farner4.ch
SUMMARY:Verkehrsinstruktion Soleure - Action de distribution
DESCRIPTION:Am Tag des Lichtes sind mehrere Polizisten in der Stadt Solothurn unterwegs und versuchen den Fussgängerverkehr\, sowie die Zwei-Radfahrer zum Thema Sicherheit durch Sichtbarkeit zu sensibilisieren. Diese sprechen die Passanten an und verteilen Give-Aways von MADE VISIBLE® und verbreiten natürlich gute Stimmung. \n 
URL:https://madevisible.farner4.ch/fr/event/verkehrsinstruktion-stadt-solothurn-verteilaktion/
LOCATION:Place de la Couronne Soleure\, Kronenplatz\, Solothurn\, 4500\, Schweiz
GEO:47.2088348;7.532291
X-APPLE-STRUCTURED-LOCATION;VALUE=URI;X-ADDRESS=Place de la Couronne Soleure Kronenplatz Solothurn 4500 Schweiz;X-APPLE-RADIUS=500;X-TITLE=Kronenplatz:geo:7.532291,47.2088348
END:VEVENT
BEGIN:VEVENT
DTSTART;TZID=Europe/Zurich:20201105T170000
DTEND;TZID=Europe/Zurich:20201105T200000
DTSTAMP:20260420T012603
CREATED:20201028T123532Z
LAST-MODIFIED:20201028T123600Z
UID:23007-1604595600-1604606400@madevisible.farner4.ch
SUMMARY:Police de la circulation de Schaffhouse et TCS - Contrôle de la circulation et des feux
DESCRIPTION:
URL:https://madevisible.farner4.ch/fr/event/schaffhauser-verkehrspolizei-und-tcs-schaffhausen-verkehrs-lichtkontrollen/
LOCATION:Schaffhauser Verkehrspolizei\, Fulachstrasse\, Schaffhausen und Zollstrasse\, Neuhausen\, Schaffhausen\, Schweiz
GEO:47.7086194;8.6412604
X-APPLE-STRUCTURED-LOCATION;VALUE=URI;X-ADDRESS=Schaffhauser Verkehrspolizei Fulachstrasse Schaffhausen und Zollstrasse Neuhausen Schaffhausen Schweiz;X-APPLE-RADIUS=500;X-TITLE=Fulachstrasse\, Schaffhausen und Zollstrasse\, Neuhausen:geo:8.6412604,47.7086194
END:VEVENT
BEGIN:VEVENT
DTSTART;TZID=Europe/Zurich:20201105T170000
DTEND;TZID=Europe/Zurich:20201105T200000
DTSTAMP:20260420T012603
CREATED:20201023T135806Z
LAST-MODIFIED:20201028T124536Z
UID:22889-1604595600-1604606400@madevisible.farner4.ch
SUMMARY:Pro Velo Zurich - Campagne de distribution
DESCRIPTION:
URL:https://madevisible.farner4.ch/fr/event/tag-des-lichts-pro-velo-zuerich/
LOCATION:General-Guisan-Quai\, Zürich\, General-Guisan-Quai\, Zürich\, Zürich\, 8001\, Schweiz
ORGANIZER;CN="Pro%20Velo%20Zurich":MAILTO:info@provelozuerich.ch
GEO:47.3654627;8.5390084
X-APPLE-STRUCTURED-LOCATION;VALUE=URI;X-ADDRESS=General-Guisan-Quai Zürich General-Guisan-Quai Zürich Zürich 8001 Schweiz;X-APPLE-RADIUS=500;X-TITLE=General-Guisan-Quai:geo:8.5390084,47.3654627
END:VEVENT
BEGIN:VEVENT
DTSTART;TZID=Europe/Zurich:20201105T170000
DTEND;TZID=Europe/Zurich:20201105T190000
DTSTAMP:20260420T012603
CREATED:20201028T122012Z
LAST-MODIFIED:20201028T122012Z
UID:22988-1604595600-1604602800@madevisible.farner4.ch
SUMMARY:Police municipale de Bülach - Campagne de distribution et de prévention
DESCRIPTION:
URL:https://madevisible.farner4.ch/fr/event/verteilaktion-und-praeventionsarbeit/
LOCATION:Bülach im Städtli\, Marktgasse\, Bülach\, Zürich\, 8180\, Schweiz
GEO:47.5175856;8.5410553
X-APPLE-STRUCTURED-LOCATION;VALUE=URI;X-ADDRESS=Bülach im Städtli Marktgasse Bülach Zürich 8180 Schweiz;X-APPLE-RADIUS=500;X-TITLE=Marktgasse:geo:8.5410553,47.5175856
END:VEVENT
BEGIN:VEVENT
DTSTART;TZID=Europe/Zurich:20201105T170000
DTEND;TZID=Europe/Zurich:20201105T190000
DTSTAMP:20260420T012603
CREATED:20200917T154132Z
LAST-MODIFIED:20200917T154132Z
UID:22475-1604595600-1604602800@madevisible.farner4.ch
SUMMARY:Pro Velo Region Baden - Contrôle des feux de vélo
DESCRIPTION:Am Bahnhof Baden werden Velolichter kontrolliert und repariert\, zudem verteilt die Polizei Reflektoren anstelle von Bussen. Die Stadtpolizei Baden und Pro Velo Region Baden freuen sich auf zahlreiche Besucher.
URL:https://madevisible.farner4.ch/fr/event/pro-velo-region-baden-velolichtkontrolle/
LOCATION:Bahnhof Baden\, Bahnhofstrasse\, Baden\, 5401\, Schweiz
GEO:47.4766825;8.3083419
X-APPLE-STRUCTURED-LOCATION;VALUE=URI;X-ADDRESS=Bahnhof Baden Bahnhofstrasse Baden 5401 Schweiz;X-APPLE-RADIUS=500;X-TITLE=Bahnhofstrasse:geo:8.3083419,47.4766825
END:VEVENT
BEGIN:VEVENT
DTSTART;TZID=Europe/Zurich:20201105T163000
DTEND;TZID=Europe/Zurich:20201105T193000
DTSTAMP:20260420T012603
CREATED:20200909T080014Z
LAST-MODIFIED:20200918T114804Z
UID:22366-1604593800-1604604600@madevisible.farner4.ch
SUMMARY:Pro Velo Bödeli - Contrôle des feux de vélo
DESCRIPTION:
URL:https://madevisible.farner4.ch/fr/event/pro-velo-boedeli-licht-check-am-fahrrad/
LOCATION:Gare d’Interlaken\, Bahnhofstrasse 28\, Interlaken\, 3800\, Schweiz
ORGANIZER;CN="Pro%20Velo%20B%C3%B6deli":MAILTO:velo@pro-velo-boedeli.ch
GEO:46.6825737;7.8515638
X-APPLE-STRUCTURED-LOCATION;VALUE=URI;X-ADDRESS=Gare d’Interlaken Bahnhofstrasse 28 Interlaken 3800 Schweiz;X-APPLE-RADIUS=500;X-TITLE=Bahnhofstrasse 28:geo:7.8515638,46.6825737
END:VEVENT
BEGIN:VEVENT
DTSTART;TZID=Europe/Zurich:20201105T160000
DTEND;TZID=Europe/Zurich:20201105T200000
DTSTAMP:20260420T012603
CREATED:20201015T141947Z
LAST-MODIFIED:20201015T142409Z
UID:22792-1604592000-1604606400@madevisible.farner4.ch
SUMMARY:Pro Velo Luzern - campagne de distribution et contrôle des vélos
DESCRIPTION:
URL:https://madevisible.farner4.ch/fr/event/pro-velo-luzern-velo-check-verteilaktion/
LOCATION:Jesuitenplatz à Lucerne\, Jesuitenplatz\, Luzern\, 6003\, Schweiz
GEO:47.0507409;8.3050933
X-APPLE-STRUCTURED-LOCATION;VALUE=URI;X-ADDRESS=Jesuitenplatz à Lucerne Jesuitenplatz Luzern 6003 Schweiz;X-APPLE-RADIUS=500;X-TITLE=Jesuitenplatz:geo:8.3050933,47.0507409
END:VEVENT
BEGIN:VEVENT
DTSTART;TZID=Europe/Zurich:20201105T150000
DTEND;TZID=Europe/Zurich:20201105T190000
DTSTAMP:20260420T012603
CREATED:20200921T110937Z
LAST-MODIFIED:20200921T110937Z
UID:22519-1604588400-1604602800@madevisible.farner4.ch
SUMMARY:Police cantonale de Glarus - Campagne de stand
DESCRIPTION:
URL:https://madevisible.farner4.ch/fr/event/kantonspolizei-glarus-standaktion/
LOCATION:Rathausplatz Glarus\, Bankstrasse 35\, Glarus\, 8750
GEO:47.0399173;9.0681222
X-APPLE-STRUCTURED-LOCATION;VALUE=URI;X-ADDRESS=Rathausplatz Glarus Bankstrasse 35 Glarus 8750;X-APPLE-RADIUS=500;X-TITLE=Bankstrasse 35:geo:9.0681222,47.0399173
END:VEVENT
BEGIN:VEVENT
DTSTART;TZID=Europe/Zurich:20201105T080000
DTEND;TZID=Europe/Zurich:20201105T180000
DTSTAMP:20260420T012603
CREATED:20201028T124033Z
LAST-MODIFIED:20201028T124105Z
UID:23020-1604563200-1604599200@madevisible.farner4.ch
SUMMARY:Genèveroule - Action de distribution de pins réfléchissants
DESCRIPTION:Dans le cadre de la Journée lumière 2020\, des pins réfléchissants seront distribués dans les deux arcades de Genèveroule à Montbrillant et à Meyrin le 5 novembre de 8h à 18h. \n  \nAdresses exactes: \n\nArcade Genèveroule\, Place Montbrillant 17\, 1201 Genève\nArcade Meyrinroule\, Avenue Vaudagne 1\, 1217 Meyrin
URL:https://madevisible.farner4.ch/fr/event/action-de-distribution-de-pins-reflechissants/
LOCATION:Arcade Genèveroule\, Place Montbrillant 17\, Genève\, Genève\, 1201\, Schweiz
ORGANIZER;CN="Gen%C3%A8veroule":MAILTO:christiane.fischer@geneveroule.ch
GEO:46.2104853;6.1412017
X-APPLE-STRUCTURED-LOCATION;VALUE=URI;X-ADDRESS=Arcade Genèveroule Place Montbrillant 17 Genève Genève 1201 Schweiz;X-APPLE-RADIUS=500;X-TITLE=Place Montbrillant 17:geo:6.1412017,46.2104853
END:VEVENT
BEGIN:VEVENT
DTSTART;TZID=Europe/Zurich:20201105T080000
DTEND;TZID=Europe/Zurich:20201105T170000
DTSTAMP:20260420T012603
CREATED:20201028T122520Z
LAST-MODIFIED:20201028T122558Z
UID:22999-1604563200-1604595600@madevisible.farner4.ch
SUMMARY:Office fédéral de l'aviation civile - Sensibilisation des employés
DESCRIPTION:
URL:https://madevisible.farner4.ch/fr/event/tag-des-lichts-sensibilisierung-der-mitarbeitenden-des-bazl-ueber-intranet-newsmeldung-plakate-und-giveaways/
LOCATION:Bundesamt für Zivilluftfahrt BAZL\, Mühlestrasse 2\, Ittigen\, Bern\, 3063\, Schweiz
GEO:46.9751396;7.4741548
X-APPLE-STRUCTURED-LOCATION;VALUE=URI;X-ADDRESS=Bundesamt für Zivilluftfahrt BAZL Mühlestrasse 2 Ittigen Bern 3063 Schweiz;X-APPLE-RADIUS=500;X-TITLE=Mühlestrasse 2:geo:7.4741548,46.9751396
END:VEVENT
BEGIN:VEVENT
DTSTART;TZID=Europe/Zurich:20201105T073000
DTEND;TZID=Europe/Zurich:20201105T120000
DTSTAMP:20260420T012603
CREATED:20201028T105626Z
LAST-MODIFIED:20201028T105626Z
UID:22917-1604561400-1604577600@madevisible.farner4.ch
SUMMARY:Police Est-Lausannois - Action de distribution avec stand
DESCRIPTION:
URL:https://madevisible.farner4.ch/fr/event/polizei-lausanne-ost-verteilaktion-mit-stand/
LOCATION:Pully\, place de la Gare 1 et place Neuve 1\, Place de la Gare 1\, Pully\, 1068\, Schweiz
GEO:46.5107027;6.6595183
X-APPLE-STRUCTURED-LOCATION;VALUE=URI;X-ADDRESS=Pully place de la Gare 1 et place Neuve 1 Place de la Gare 1 Pully 1068 Schweiz;X-APPLE-RADIUS=500;X-TITLE=Place de la Gare 1:geo:6.6595183,46.5107027
END:VEVENT
BEGIN:VEVENT
DTSTART;TZID=Europe/Zurich:20201105T073000
DTEND;TZID=Europe/Zurich:20201105T093000
DTSTAMP:20260420T012603
CREATED:20201028T120039Z
LAST-MODIFIED:20201029T100054Z
UID:22954-1604561400-1604568600@madevisible.farner4.ch
SUMMARY:TCS Vaud - Action de distribution
DESCRIPTION:Pour être visible avec style\, le TCS Vaud distribuera des badges réfléchissants aux piétons et des réflecteurs pour les cyclistes. Retrouvez-nous entre le bas du Petit-Chêne et la gare CFF\, un vélo-cargo TCS fera office de stand!
URL:https://madevisible.farner4.ch/fr/event/tcs-waadt-verteilaktion/
LOCATION:Lausanne\, bas du Petit-Chêne et parking vélo de la Gare CFF\, Gare CFF\, Lausanne\, Schweiz
ORGANIZER;CN="TCS%20Vaud":MAILTO:sectionvd@tcs.ch
GEO:46.5107027;6.6595183
X-APPLE-STRUCTURED-LOCATION;VALUE=URI;X-ADDRESS=Lausanne bas du Petit-Chêne et parking vélo de la Gare CFF Gare CFF Lausanne Schweiz;X-APPLE-RADIUS=500;X-TITLE=Gare CFF:geo:6.6595183,46.5107027
END:VEVENT
BEGIN:VEVENT
DTSTART;VALUE=DATE:20201105
DTEND;VALUE=DATE:20201106
DTSTAMP:20260420T012603
CREATED:20201028T114751Z
LAST-MODIFIED:20201028T114751Z
UID:22940-1604534400-1604620799@madevisible.farner4.ch
SUMMARY:Police cantonale Fribourg - Action de présences\, de contrôles et de distributions par les patrouilles de police
DESCRIPTION:
URL:https://madevisible.farner4.ch/fr/event/kantonspolizei-freiburg-kontrollen-und-verteilationen-durch-die-polizeipatrouillen/
LOCATION:Canton de Fribourg\, Freiburg\, Schweiz
ORGANIZER;CN="Police%20cantonale%20Fribourg":MAILTO:polci@fr.ch
GEO:46.8064773;7.1619719
END:VEVENT
BEGIN:VEVENT
DTSTART;VALUE=DATE:20201105
DTEND;VALUE=DATE:20201106
DTSTAMP:20260420T012603
CREATED:20201028T130242Z
LAST-MODIFIED:20201028T130242Z
UID:23053-1604534400-1604620799@madevisible.farner4.ch
SUMMARY:TCS Zoug et Police - Contrôle des feux
DESCRIPTION:
URL:https://madevisible.farner4.ch/fr/event/tcs-zug-und-zuger-polizei-lichtkontrolle/
LOCATION:Sinserstrasse\, Cham\, SInserstrasse 400\, Cham\, 6330
ORGANIZER;CN="TCS%20Zoug":MAILTO:vorburger@tcs-zug.ch
GEO:47.1966038;8.4351454
X-APPLE-STRUCTURED-LOCATION;VALUE=URI;X-ADDRESS=Sinserstrasse Cham SInserstrasse 400 Cham 6330;X-APPLE-RADIUS=500;X-TITLE=SInserstrasse 400:geo:8.4351454,47.1966038
END:VEVENT
BEGIN:VEVENT
DTSTART;VALUE=DATE:20201105
DTEND;VALUE=DATE:20201106
DTSTAMP:20260420T012603
CREATED:20201028T114031Z
LAST-MODIFIED:20201028T114202Z
UID:22930-1604534400-1604620799@madevisible.farner4.ch
SUMMARY:SAFRAN Colibrys SA - Azione preventiva in azienda
DESCRIPTION:Distribuzione di badge riflettenti a tutti i dipendenti\nComunicazione interna sui rischi stradali\nEsposizione di manifesti
URL:https://madevisible.farner4.ch/fr/event/safran-colibrys-sa-praeventionsaktion-im-unternehmen/
LOCATION:SAFRAN Colibrys SA\, Avenue des Sciences 13\, Yverdon-les-Bains\, 1400\, Schweiz
ORGANIZER;CN="SAFRAN%20Colibrys%20SA":MAILTO:marie-agnes.contal@colibrys.com
GEO:46.7641587;6.641892
X-APPLE-STRUCTURED-LOCATION;VALUE=URI;X-ADDRESS=SAFRAN Colibrys SA Avenue des Sciences 13 Yverdon-les-Bains 1400 Schweiz;X-APPLE-RADIUS=500;X-TITLE=Avenue des Sciences 13:geo:6.641892,46.7641587
END:VEVENT
BEGIN:VEVENT
DTSTART;TZID=Europe/Zurich:20201104T180000
DTEND;TZID=Europe/Zurich:20201104T200000
DTSTAMP:20260420T012603
CREATED:20201028T125255Z
LAST-MODIFIED:20201028T125351Z
UID:23040-1604512800-1604520000@madevisible.farner4.ch
SUMMARY:PRO VELO Lausanne - Campagne de distribution
DESCRIPTION:
URL:https://madevisible.farner4.ch/fr/event/journee-de-la-lumiere/
LOCATION:Place de la Gare\, Lausanne\, Place de la Gare\, Lausanne\, Vaud\, 1003\, Schweiz
GEO:46.5172673;6.6294973
X-APPLE-STRUCTURED-LOCATION;VALUE=URI;X-ADDRESS=Place de la Gare Lausanne Place de la Gare Lausanne Vaud 1003 Schweiz;X-APPLE-RADIUS=500;X-TITLE=Place de la Gare:geo:6.6294973,46.5172673
END:VEVENT
BEGIN:VEVENT
DTSTART;TZID=Europe/Zurich:20201104T140000
DTEND;TZID=Europe/Zurich:20201104T180000
DTSTAMP:20260420T012603
CREATED:20200915T093011Z
LAST-MODIFIED:20201006T142336Z
UID:22441-1604498400-1604512800@madevisible.farner4.ch
SUMMARY:Pro Velo Berne - Réparer l'éclairage des vélos
DESCRIPTION:Um auch in der dunklen Jahreszeit sicher auf den Strassen unterwegs zu sein\, ist gute Sichtbarkeit von zentraler Bedeutung. Pro Velo Bern offeriert in Zusammenarbeit mit der Velostation PostParc eine Gratis-Reparatur. Pro Velo leistet damit gemeinsam mit allen Partner*innen einen nachhaltigen Beitrag zur Verkehrssicherheit\, zur Sensibilisierung der Velofahrenden für dieses wichtige Thema und zur Förderung des effizientesten Nahverkehrsmittels.
URL:https://madevisible.farner4.ch/fr/event/pro-velo-bern-velolicht-flicken/
LOCATION:Velostation PostParc Bern\, Schanzenstrasse 4\, Bern\, 3008\, Schweiz
ORGANIZER;CN="Pro%20Velo%20Berne":MAILTO:info@provelobern.ch
GEO:46.9481563;7.4374495
X-APPLE-STRUCTURED-LOCATION;VALUE=URI;X-ADDRESS=Velostation PostParc Bern Schanzenstrasse 4 Bern 3008 Schweiz;X-APPLE-RADIUS=500;X-TITLE=Schanzenstrasse 4:geo:7.4374495,46.9481563
END:VEVENT
BEGIN:VEVENT
DTSTART;TZID=Europe/Zurich:20201023T133000
DTEND;TZID=Europe/Zurich:20201023T170000
DTSTAMP:20260420T012603
CREATED:20200917T145120Z
LAST-MODIFIED:20200917T155206Z
UID:22454-1603459800-1603472400@madevisible.farner4.ch
SUMMARY:Pro Velo Brugg-Windisch - Manifestation d'information sur le jour de la lumière
DESCRIPTION:Der Informationsnachmittag richtet sich an Schülerinnen und Schüler der 1. & 2. Oberstufe. Das Ziel ist es den Jugendlichen folgendes zu vermitteln: \n• Für Autofahrer ist nachts das Erkennen von unbeleuchteten Verkehrsteilnehmer äusserst schwierig.\n• Bei Dunkelheit steigt für Fussgänger und Velofahrer das Unfallrisiko um den Faktor 3 bis 10 an.\n• Mit einfachen Hilfsmittel kann die Sichtbarkeit von 25m auf bis zu 140m erhöht werden. \nDer Nachmittag beinhaltet einen Theorieteil sowie einen Postenarbeit in Gruppen. Die Jugendlichen werden durch Informationen sensibilisiert und können die Wirkung der unterschiedlichen Kleidung praxisnahe erleben. Durch die Abgabe von Reflektor- und Beleuchtungsmaterial können die Teilnehmenden ihre Sichtbarkeit sofort verbessern.
URL:https://madevisible.farner4.ch/fr/event/pro-velo-brugg-windisch-informationsnachmittag-an-der-oberstufe-brugg/
LOCATION:Bezirksschule Hallwyler\, Schulhausplatz 2\, Brugg\, 5200\, Schweiz
ORGANIZER;CN="Pro%20Velo%20Brugg-Windisch":MAILTO:info@provelo-brugg-windisch.ch
GEO:47.4857172;8.2050952
X-APPLE-STRUCTURED-LOCATION;VALUE=URI;X-ADDRESS=Bezirksschule Hallwyler Schulhausplatz 2 Brugg 5200 Schweiz;X-APPLE-RADIUS=500;X-TITLE=Schulhausplatz 2:geo:8.2050952,47.4857172
END:VEVENT
END:VCALENDAR