BEGIN:VCALENDAR
VERSION:2.0
PRODID:-//MADE VISIBLE® by TCS - ECPv6.0.1.1//NONSGML v1.0//EN
CALSCALE:GREGORIAN
METHOD:PUBLISH
X-ORIGINAL-URL:https://madevisible.farner4.ch
X-WR-CALDESC:Veranstaltungen für MADE VISIBLE® by TCS
REFRESH-INTERVAL;VALUE=DURATION:PT1H
X-Robots-Tag:noindex
X-PUBLISHED-TTL:PT1H
BEGIN:VTIMEZONE
TZID:Europe/Zurich
BEGIN:DAYLIGHT
TZOFFSETFROM:+0100
TZOFFSETTO:+0200
TZNAME:CEST
DTSTART:20200329T010000
END:DAYLIGHT
BEGIN:STANDARD
TZOFFSETFROM:+0200
TZOFFSETTO:+0100
TZNAME:CET
DTSTART:20201025T010000
END:STANDARD
END:VTIMEZONE
BEGIN:VEVENT
DTSTART;TZID=Europe/Zurich:20201023T133000
DTEND;TZID=Europe/Zurich:20201023T170000
DTSTAMP:20260420T012617
CREATED:20200917T130553Z
LAST-MODIFIED:20201006T143012Z
UID:22449-1603459800-1603472400@madevisible.farner4.ch
SUMMARY:Pro Velo Brugg-Windisch - Infoanlass zum Tag des Lichts
DESCRIPTION:Der Informationsnachmittag richtet sich an Schülerinnen und Schüler der 1. & 2. Oberstufe. Das Ziel ist es den Jugendlichen folgendes zu vermitteln: \n• Für Autofahrer ist nachts das Erkennen von unbeleuchteten Verkehrsteilnehmer äusserst schwierig.\n• Bei Dunkelheit steigt für Fussgänger und Velofahrer das Unfallrisiko um den Faktor 3 bis 10 an.\n• Mit einfachen Hilfsmittel kann die Sichtbarkeit von 25m auf bis zu 140m erhöht werden. \nDer Nachmittag beinhaltet einen Theorieteil sowie einen Postenarbeit in Gruppen. Die Jugendlichen werden durch Informationen sensibilisiert und können die Wirkung der unterschiedlichen Kleidung praxisnahe erleben. Durch die Abgabe von Reflektor- und Beleuchtungsmaterial können die Teilnehmenden ihre Sichtbarkeit sofort verbessern.
URL:https://madevisible.farner4.ch/event/pro-velo-brugg-windisch-informationsnachmittag-an-der-oberstufe-brugg/
LOCATION:Bezirksschule Hallwyler\, Schulhausplatz 2\, Brugg\, 5200\, Schweiz
ORGANIZER;CN="Pro%20Velo%20Brugg-Windisch":MAILTO:info@provelo-brugg-windisch.ch
GEO:47.4857172;8.2050952
X-APPLE-STRUCTURED-LOCATION;VALUE=URI;X-ADDRESS=Bezirksschule Hallwyler Schulhausplatz 2 Brugg 5200 Schweiz;X-APPLE-RADIUS=500;X-TITLE=Schulhausplatz 2:geo:8.2050952,47.4857172
END:VEVENT
BEGIN:VEVENT
DTSTART;TZID=Europe/Zurich:20201028T080000
DTEND;TZID=Europe/Zurich:20201028T170000
DTSTAMP:20260420T012617
CREATED:20201020T090330Z
LAST-MODIFIED:20201020T090337Z
UID:22817-1603872000-1603904400@madevisible.farner4.ch
SUMMARY:Sichtbar machen der Mitarbeiter - Huttwil
DESCRIPTION:Die Mitarbeiter sollen an diesem Anlass sensibilisiert werden.
URL:https://madevisible.farner4.ch/event/sichtbar-machen-der-mitarbeiter/
LOCATION:SiBe\, Schwende 1\, Huttwil\, Bern\, 4950\, Schweiz
GEO:47.1160426;7.8681892
X-APPLE-STRUCTURED-LOCATION;VALUE=URI;X-ADDRESS=SiBe Schwende 1 Huttwil Bern 4950 Schweiz;X-APPLE-RADIUS=500;X-TITLE=Schwende 1:geo:7.8681892,47.1160426
END:VEVENT
BEGIN:VEVENT
DTSTART;TZID=Europe/Zurich:20201104T140000
DTEND;TZID=Europe/Zurich:20201104T180000
DTSTAMP:20260420T012617
CREATED:20200915T092422Z
LAST-MODIFIED:20201006T141544Z
UID:22436-1604498400-1604512800@madevisible.farner4.ch
SUMMARY:Pro Velo Bern - Velolicht flicken
DESCRIPTION:Um auch in der dunklen Jahreszeit sicher auf den Strassen unterwegs zu sein\, ist gute Sichtbarkeit von zentraler Bedeutung. Pro Velo Bern offeriert in Zusammenarbeit mit der Velostation PostParc eine Gratis-Reparatur. Pro Velo leistet damit gemeinsam mit allen Partner*innen einen nachhaltigen Beitrag zur Verkehrssicherheit\, zur Sensibilisierung der Velofahrenden für dieses wichtige Thema und zur Förderung des effizientesten Nahverkehrsmittels.
URL:https://madevisible.farner4.ch/event/pro-velo-bern-velolicht-flicken/
LOCATION:Velostation PostParc Bern\, Schanzenstrasse 4\, Bern\, 3008\, Schweiz
ORGANIZER;CN="Pro%20Velo%20Bern":MAILTO:info@provelobern.ch
GEO:46.9481563;7.4374495
X-APPLE-STRUCTURED-LOCATION;VALUE=URI;X-ADDRESS=Velostation PostParc Bern Schanzenstrasse 4 Bern 3008 Schweiz;X-APPLE-RADIUS=500;X-TITLE=Schanzenstrasse 4:geo:7.4374495,46.9481563
END:VEVENT
BEGIN:VEVENT
DTSTART;TZID=Europe/Zurich:20201104T180000
DTEND;TZID=Europe/Zurich:20201104T200000
DTSTAMP:20260420T012617
CREATED:20201022T111049Z
LAST-MODIFIED:20201028T125209Z
UID:22842-1604512800-1604520000@madevisible.farner4.ch
SUMMARY:Pro Velo Lausanne - Verteilaktion
DESCRIPTION:
URL:https://madevisible.farner4.ch/event/journee-de-la-lumiere/
LOCATION:Place de la Gare\, Lausanne\, Place de la Gare\, Lausanne\, Vaud\, 1003\, Schweiz
GEO:46.5172673;6.6294973
X-APPLE-STRUCTURED-LOCATION;VALUE=URI;X-ADDRESS=Place de la Gare Lausanne Place de la Gare Lausanne Vaud 1003 Schweiz;X-APPLE-RADIUS=500;X-TITLE=Place de la Gare:geo:6.6294973,46.5172673
END:VEVENT
BEGIN:VEVENT
DTSTART;VALUE=DATE:20201105
DTEND;VALUE=DATE:20201106
DTSTAMP:20260420T012617
CREATED:20201028T130204Z
LAST-MODIFIED:20201028T130204Z
UID:23050-1604534400-1604620799@madevisible.farner4.ch
SUMMARY:TCS Zug und Zuger Polizei - Lichtkontrolle
DESCRIPTION:TCS
URL:https://madevisible.farner4.ch/event/tcs-zug-und-zuger-polizei-lichtkontrolle/
LOCATION:Sinserstrasse\, Cham\, SInserstrasse 400\, Cham\, 6330
ORGANIZER;CN="TCS%20Sektion%20Zug":MAILTO:vorburger@tcs-zug.ch
GEO:47.1966038;8.4351454
X-APPLE-STRUCTURED-LOCATION;VALUE=URI;X-ADDRESS=Sinserstrasse Cham SInserstrasse 400 Cham 6330;X-APPLE-RADIUS=500;X-TITLE=SInserstrasse 400:geo:8.4351454,47.1966038
END:VEVENT
BEGIN:VEVENT
DTSTART;VALUE=DATE:20201105
DTEND;VALUE=DATE:20201106
DTSTAMP:20260420T012617
CREATED:20201028T113950Z
LAST-MODIFIED:20201028T113950Z
UID:22927-1604534400-1604620799@madevisible.farner4.ch
SUMMARY:SAFRAN Colibrys SA - Präventionsaktion im Unternehmen
DESCRIPTION:Verteilung von reflektierenden Buttons an alle Mitarbeiter\nInterne Kommunikation über die Risiken im Strassenverkehr\nAufhängen von Postern
URL:https://madevisible.farner4.ch/event/safran-colibrys-sa-praeventionsaktion-im-unternehmen/
LOCATION:SAFRAN Colibrys SA\, Avenue des Sciences 13\, Yverdon-les-Bains\, 1400\, Schweiz
ORGANIZER;CN="SAFRAN%20Colibrys%20SA":MAILTO:marie-agnes.contal@colibrys.com
GEO:46.7641587;6.641892
X-APPLE-STRUCTURED-LOCATION;VALUE=URI;X-ADDRESS=SAFRAN Colibrys SA Avenue des Sciences 13 Yverdon-les-Bains 1400 Schweiz;X-APPLE-RADIUS=500;X-TITLE=Avenue des Sciences 13:geo:6.641892,46.7641587
END:VEVENT
BEGIN:VEVENT
DTSTART;VALUE=DATE:20201105
DTEND;VALUE=DATE:20201106
DTSTAMP:20260420T012617
CREATED:20201028T114700Z
LAST-MODIFIED:20201028T114700Z
UID:22937-1604534400-1604620799@madevisible.farner4.ch
SUMMARY:Kantonspolizei Freiburg - Kontrollen und Verteilationen durch die Polizeipatrouillen
DESCRIPTION:
URL:https://madevisible.farner4.ch/event/kantonspolizei-freiburg-kontrollen-und-verteilationen-durch-die-polizeipatrouillen/
LOCATION:Kanton Freiburg\, Freiburg\, Schweiz
ORGANIZER;CN="Kantonspolizei%20Freiburg":MAILTO:polci@fr.ch
GEO:46.8064773;7.1619719
END:VEVENT
BEGIN:VEVENT
DTSTART;TZID=Europe/Zurich:20201105T073000
DTEND;TZID=Europe/Zurich:20201105T093000
DTSTAMP:20260420T012617
CREATED:20201028T115931Z
LAST-MODIFIED:20201029T100008Z
UID:22950-1604561400-1604568600@madevisible.farner4.ch
SUMMARY:TCS Waadt - Verteilaktion
DESCRIPTION:Um zu zeigen\, wie man sichtbar und stylisch unterwegs sein kann\, wird der TCS Waadt reflektierende Plaketten an Zufussgehende und Reflektoren an Velofahrende Radfahrer verteilen. Treffen Sie uns zwischen der Talstation des Petit-Chêne und dem SBB-Bahnhof\, ein TCS-Cargo-Bike wird als Standplatz dienen!
URL:https://madevisible.farner4.ch/event/tcs-waadt-verteilaktion/
LOCATION:Lausanne\, bas du Petit-Chêne et parking vélo de la Gare CFF\, Gare CFF\, Lausanne\, Schweiz
ORGANIZER;CN="TCS%20Waadt":MAILTO:sectionvd@tcs.ch
GEO:46.5171872;6.6285356
X-APPLE-STRUCTURED-LOCATION;VALUE=URI;X-ADDRESS=Lausanne bas du Petit-Chêne et parking vélo de la Gare CFF Gare CFF Lausanne Schweiz;X-APPLE-RADIUS=500;X-TITLE=Gare CFF:geo:6.6285356,46.5171872
END:VEVENT
BEGIN:VEVENT
DTSTART;TZID=Europe/Zurich:20201105T073000
DTEND;TZID=Europe/Zurich:20201105T120000
DTSTAMP:20260420T012617
CREATED:20201028T105456Z
LAST-MODIFIED:20201028T125506Z
UID:22914-1604561400-1604577600@madevisible.farner4.ch
SUMMARY:Polizei Lausanne Ost - Verteilaktion mit Stand
DESCRIPTION:
URL:https://madevisible.farner4.ch/event/polizei-lausanne-ost-verteilaktion-mit-stand/
LOCATION:Pully\, place de la Gare 1 et place Neuve 1\, Place de la Gare 1\, Pully\, 1068\, Schweiz
GEO:46.5107027;6.6595183
X-APPLE-STRUCTURED-LOCATION;VALUE=URI;X-ADDRESS=Pully place de la Gare 1 et place Neuve 1 Place de la Gare 1 Pully 1068 Schweiz;X-APPLE-RADIUS=500;X-TITLE=Place de la Gare 1:geo:6.6595183,46.5107027
END:VEVENT
BEGIN:VEVENT
DTSTART;TZID=Europe/Zurich:20201105T080000
DTEND;TZID=Europe/Zurich:20201105T170000
DTSTAMP:20260420T012617
CREATED:20201020T133726Z
LAST-MODIFIED:20201028T122419Z
UID:22821-1604563200-1604595600@madevisible.farner4.ch
SUMMARY:Bundesamt für Zivilluftfahrt - Sensibilisierung der Mitarbeitenden
DESCRIPTION:Tag des Lichts: Sensibilisierung der Mitarbeitenden des BAZL über Intranet-Newsmeldung\, Plakate und Giveaways.
URL:https://madevisible.farner4.ch/event/tag-des-lichts-sensibilisierung-der-mitarbeitenden-des-bazl-ueber-intranet-newsmeldung-plakate-und-giveaways/
LOCATION:Bundesamt für Zivilluftfahrt BAZL\, Mühlestrasse 2\, Ittigen\, Bern\, 3063\, Schweiz
GEO:46.9751396;7.4741548
X-APPLE-STRUCTURED-LOCATION;VALUE=URI;X-ADDRESS=Bundesamt für Zivilluftfahrt BAZL Mühlestrasse 2 Ittigen Bern 3063 Schweiz;X-APPLE-RADIUS=500;X-TITLE=Mühlestrasse 2:geo:7.4741548,46.9751396
END:VEVENT
BEGIN:VEVENT
DTSTART;TZID=Europe/Zurich:20201105T080000
DTEND;TZID=Europe/Zurich:20201105T180000
DTSTAMP:20260420T012617
CREATED:20201022T100952Z
LAST-MODIFIED:20201028T125838Z
UID:22839-1604563200-1604599200@madevisible.farner4.ch
SUMMARY:Genèveroule - Verteilaktion
DESCRIPTION:Adressen \n\nArcade Genèveroule\, Place Montbrillant 17\, 1201 Genève\nArcade Meyrinroule\, Avenue Vaudagne 1\, 1217 Meyrin
URL:https://madevisible.farner4.ch/event/action-de-distribution-de-pins-reflechissants/
LOCATION:Arcade Genèveroule\, Place Montbrillant 17\, Genève\, Genève\, 1201\, Schweiz
ORGANIZER;CN="Gen%C3%A8veroule":MAILTO:christiane.fischer@geneveroule.ch
GEO:46.2104853;6.1412017
X-APPLE-STRUCTURED-LOCATION;VALUE=URI;X-ADDRESS=Arcade Genèveroule Place Montbrillant 17 Genève Genève 1201 Schweiz;X-APPLE-RADIUS=500;X-TITLE=Place Montbrillant 17:geo:6.1412017,46.2104853
END:VEVENT
BEGIN:VEVENT
DTSTART;TZID=Europe/Zurich:20201105T150000
DTEND;TZID=Europe/Zurich:20201105T190000
DTSTAMP:20260420T012617
CREATED:20200921T100020Z
LAST-MODIFIED:20201007T154857Z
UID:22516-1604588400-1604602800@madevisible.farner4.ch
SUMMARY:Kantonspolizei Glarus - Standaktion
DESCRIPTION:
URL:https://madevisible.farner4.ch/event/kantonspolizei-glarus-standaktion/
LOCATION:Rathausplatz Glarus\, Bankstrasse 35\, Glarus\, 8750
GEO:47.0399173;9.0681222
X-APPLE-STRUCTURED-LOCATION;VALUE=URI;X-ADDRESS=Rathausplatz Glarus Bankstrasse 35 Glarus 8750;X-APPLE-RADIUS=500;X-TITLE=Bankstrasse 35:geo:9.0681222,47.0399173
END:VEVENT
BEGIN:VEVENT
DTSTART;TZID=Europe/Zurich:20201105T163000
DTEND;TZID=Europe/Zurich:20201105T193000
DTSTAMP:20260420T012617
CREATED:20200909T073131Z
LAST-MODIFIED:20201006T144345Z
UID:22356-1604593800-1604604600@madevisible.farner4.ch
SUMMARY:Pro Velo Bödeli - Licht-Check am Fahrrad
DESCRIPTION:
URL:https://madevisible.farner4.ch/event/pro-velo-boedeli-licht-check-am-fahrrad/
LOCATION:Bahnhof Interlaken\, Bahnhofstrasse 28\, Interlaken\, 3800\, Schweiz
ORGANIZER;CN="Pro%20Velo%20B%C3%B6deli":MAILTO:velo@pro-velo-boedeli.ch
GEO:46.6825737;7.8515638
X-APPLE-STRUCTURED-LOCATION;VALUE=URI;X-ADDRESS=Bahnhof Interlaken Bahnhofstrasse 28 Interlaken 3800 Schweiz;X-APPLE-RADIUS=500;X-TITLE=Bahnhofstrasse 28:geo:7.8515638,46.6825737
END:VEVENT
BEGIN:VEVENT
DTSTART;TZID=Europe/Zurich:20201105T170000
DTEND;TZID=Europe/Zurich:20201105T190000
DTSTAMP:20260420T012617
CREATED:20201021T140539Z
LAST-MODIFIED:20201028T121916Z
UID:22829-1604595600-1604602800@madevisible.farner4.ch
SUMMARY:Stadtpolizei Bülach - Verteilaktion und Präventionsarbeit
DESCRIPTION:Die Stadtpolizei Bülach wird im Städtli Bülach präsent sein und mit Rat und Tat zur Verfügung stehen.
URL:https://madevisible.farner4.ch/event/verteilaktion-und-praeventionsarbeit/
LOCATION:Bülach im Städtli\, Marktgasse\, Bülach\, Zürich\, 8180\, Schweiz
GEO:47.5175856;8.5410553
X-APPLE-STRUCTURED-LOCATION;VALUE=URI;X-ADDRESS=Bülach im Städtli Marktgasse Bülach Zürich 8180 Schweiz;X-APPLE-RADIUS=500;X-TITLE=Marktgasse:geo:8.5410553,47.5175856
END:VEVENT
BEGIN:VEVENT
DTSTART;TZID=Europe/Zurich:20201105T170000
DTEND;TZID=Europe/Zurich:20201105T190000
DTSTAMP:20260420T012617
CREATED:20200917T153957Z
LAST-MODIFIED:20200917T153957Z
UID:22469-1604595600-1604602800@madevisible.farner4.ch
SUMMARY:Pro Velo Region Baden - Velolichtkontrolle
DESCRIPTION:Am Bahnhof Baden werden Velolichter kontrolliert und repariert\, zudem verteilt die Polizei Reflektoren anstelle von Bussen. Die Stadtpolizei Baden und Pro Velo Region Baden freuen sich auf zahlreiche Besucher.
URL:https://madevisible.farner4.ch/event/pro-velo-region-baden-velolichtkontrolle/
LOCATION:Bahnhof Baden\, Bahnhofstrasse\, Baden\, 5401\, Schweiz
GEO:47.4766825;8.3083419
X-APPLE-STRUCTURED-LOCATION;VALUE=URI;X-ADDRESS=Bahnhof Baden Bahnhofstrasse Baden 5401 Schweiz;X-APPLE-RADIUS=500;X-TITLE=Bahnhofstrasse:geo:8.3083419,47.4766825
END:VEVENT
BEGIN:VEVENT
DTSTART;TZID=Europe/Zurich:20201105T170000
DTEND;TZID=Europe/Zurich:20201105T200000
DTSTAMP:20260420T012617
CREATED:20201022T115710Z
LAST-MODIFIED:20201028T124729Z
UID:22856-1604595600-1604606400@madevisible.farner4.ch
SUMMARY:Pro Velo Zürich - Verteilaktion
DESCRIPTION:Pro Velo Kanton Zürich wird sich von 17 bis 20 Uhr am General-Guisan-Quai stationieren: Komm vorbei und hol dir ein leuchtendes Accessoire ab.
URL:https://madevisible.farner4.ch/event/tag-des-lichts-pro-velo-zuerich/
LOCATION:General-Guisan-Quai\, Zürich\, General-Guisan-Quai\, Zürich\, Zürich\, 8001\, Schweiz
ORGANIZER;CN="Pro%20Velo%20Z%C3%BCrich":MAILTO:info@provelozuerich.ch
GEO:47.3654627;8.5390084
X-APPLE-STRUCTURED-LOCATION;VALUE=URI;X-ADDRESS=General-Guisan-Quai Zürich General-Guisan-Quai Zürich Zürich 8001 Schweiz;X-APPLE-RADIUS=500;X-TITLE=General-Guisan-Quai:geo:8.5390084,47.3654627
END:VEVENT
BEGIN:VEVENT
DTSTART;TZID=Europe/Zurich:20201105T170000
DTEND;TZID=Europe/Zurich:20201105T200000
DTSTAMP:20260420T012617
CREATED:20201020T085755Z
LAST-MODIFIED:20201028T123256Z
UID:22810-1604595600-1604606400@madevisible.farner4.ch
SUMMARY:Schaffhauser Verkehrspolizei und TCS Schaffhausen - Verkehrs- und Lichtkontrollen
DESCRIPTION:Am nationalen Tag des Lichts\, 5. November 2020\, werden im ganzen Kanton Schaffhausen durch die Schaffhauser Polizei Verkehrskontrollen durchgeführt. Defekte Glühbirnen können durch den TCS Pannendienst gleich ersetzt werden lassen. \nVerkehrs-/Lichtkontrollen:\n– Fulachstrasse\, Schaffhausen\n– Zollstrasse\, Neuhausen \n \nTag des Lichts\nDer TCS unterstützt die Kontrolltätigkeiten der Polizei und repariert zum Selbstkostenpreis defekte Beleuchtungen vor Ort im Hinblick auf die Wichtigkeit «des Gesehen werdens».
URL:https://madevisible.farner4.ch/event/schaffhauser-verkehrspolizei-und-tcs-schaffhausen-verkehrs-lichtkontrollen/
LOCATION:Schaffhauser Verkehrspolizei\, Fulachstrasse\, Schaffhausen und Zollstrasse\, Neuhausen\, Schaffhausen\, Schweiz
GEO:47.7085388;8.6414278
X-APPLE-STRUCTURED-LOCATION;VALUE=URI;X-ADDRESS=Schaffhauser Verkehrspolizei Fulachstrasse Schaffhausen und Zollstrasse Neuhausen Schaffhausen Schweiz;X-APPLE-RADIUS=500;X-TITLE=Fulachstrasse\, Schaffhausen und Zollstrasse\, Neuhausen:geo:8.6414278,47.7085388
END:VEVENT
BEGIN:VEVENT
DTSTART;TZID=Europe/Zurich:20201105T173000
DTEND;TZID=Europe/Zurich:20201105T203000
DTSTAMP:20260420T012617
CREATED:20200909T133532Z
LAST-MODIFIED:20200918T115354Z
UID:22374-1604597400-1604608200@madevisible.farner4.ch
SUMMARY:Verkehrsinstruktion Stadt Solothurn - Verteilaktion
DESCRIPTION:Am Tag des Lichtes sind mehrere Polizisten in der Stadt Solothurn unterwegs und versuchen den Fussgängerverkehr\, sowie die Zwei-Radfahrer zum Thema Sicherheit durch Sichtbarkeit zu sensibilisieren. Diese sprechen die Passanten an und verteilen Give-Aways von MADE VISIBLE® und verbreiten natürlich gute Stimmung. \n 
URL:https://madevisible.farner4.ch/event/verkehrsinstruktion-stadt-solothurn-verteilaktion/
LOCATION:Solothurn Kronenplatz\, Kronenplatz\, Solothurn\, 4500\, Schweiz
GEO:47.2088348;7.532291
X-APPLE-STRUCTURED-LOCATION;VALUE=URI;X-ADDRESS=Solothurn Kronenplatz Kronenplatz Solothurn 4500 Schweiz;X-APPLE-RADIUS=500;X-TITLE=Kronenplatz:geo:7.532291,47.2088348
END:VEVENT
BEGIN:VEVENT
DTSTART;TZID=Europe/Zurich:20201105T180000
DTEND;TZID=Europe/Zurich:20201105T190000
DTSTAMP:20260420T012617
CREATED:20201021T063834Z
LAST-MODIFIED:20201028T121421Z
UID:22825-1604599200-1604602800@madevisible.farner4.ch
SUMMARY:TCS Graubünden und Kantonspolizei - Präventionsaktion und Lichtkontrolle
DESCRIPTION:
URL:https://madevisible.farner4.ch/event/praeventionsanlass-lichtkontrolle/
LOCATION:Grüsch – Valzeina\, PP Tiefbauamt\, Grüsch\, Graubünden\, 7214\, Schweiz
GEO:46.8500161;9.5304827
END:VEVENT
BEGIN:VEVENT
DTSTART;TZID=Europe/Zurich:20201106T170000
DTEND;TZID=Europe/Zurich:20201106T210000
DTSTAMP:20260420T012617
CREATED:20201030T123509Z
LAST-MODIFIED:20201030T134756Z
UID:23064-1604682000-1604696400@madevisible.farner4.ch
SUMMARY:Verkehrspolizei Nidwalden und TCS - Lichtkontrolle
DESCRIPTION:
URL:https://madevisible.farner4.ch/event/verkehrspolizei-nidwalden-und-tcs-lichtkontrolle/
LOCATION:Stans\, Kreuzstrasse\, Kreuzstrasse\, Stans\, 6362\, Schweiz
ORGANIZER;CN="Verkehrspolizei%20Nidwalden":MAILTO:verkehrspolizei@nidwalden.ch
GEO:46.9661189;8.3866579
X-APPLE-STRUCTURED-LOCATION;VALUE=URI;X-ADDRESS=Stans Kreuzstrasse Kreuzstrasse Stans 6362 Schweiz;X-APPLE-RADIUS=500;X-TITLE=Kreuzstrasse:geo:8.3866579,46.9661189
END:VEVENT
BEGIN:VEVENT
DTSTART;TZID=Europe/Zurich:20201119T170000
DTEND;TZID=Europe/Zurich:20201119T190000
DTSTAMP:20260420T012617
CREATED:20201020T084836Z
LAST-MODIFIED:20201028T120734Z
UID:22806-1605805200-1605812400@madevisible.farner4.ch
SUMMARY:TCS Sektion Uri und Kantonspolizei Uri - Lichtkontrolle
DESCRIPTION:Die TCS Sektion Uri und die Kantonspolizei Uri führen am 19.11.2020 eine  Lichtkontrolle für Automobilisten und Fahrradlenker durch. \n  \nFür weitere Medienanfragen können Sie sich gerne an folgende E-Mail Adresse wenden: toni.baumann@ur.ch
URL:https://madevisible.farner4.ch/event/tcs-polizei-lichtkontrolle/
LOCATION:Feuerwehrlokal\, Flüelerstrasse 32\, 6460 Altdorf\, Flüelerstrasse 32\, Altdorf\, Uri\, 6460\, Schweiz
ORGANIZER;CN="TCS%20Uri":MAILTO:toni.baumann@ur.ch
GEO:46.892796;8.6289676
X-APPLE-STRUCTURED-LOCATION;VALUE=URI;X-ADDRESS=Feuerwehrlokal Flüelerstrasse 32 6460 Altdorf Flüelerstrasse 32 Altdorf Uri 6460 Schweiz;X-APPLE-RADIUS=500;X-TITLE=Flüelerstrasse 32:geo:8.6289676,46.892796
END:VEVENT
END:VCALENDAR